BEGIN:VCALENDAR
VERSION:2.0
PRODID:-//CleanWater2020.com - ECPv6.15.1.1//NONSGML v1.0//EN
CALSCALE:GREGORIAN
METHOD:PUBLISH
X-WR-CALNAME:CleanWater2020.com
X-ORIGINAL-URL:https://cleanwater2020.com
X-WR-CALDESC:Events for CleanWater2020.com
REFRESH-INTERVAL;VALUE=DURATION:PT1H
X-Robots-Tag:noindex
X-PUBLISHED-TTL:PT1H
BEGIN:VTIMEZONE
TZID:America/New_York
BEGIN:DAYLIGHT
TZOFFSETFROM:-0500
TZOFFSETTO:-0400
TZNAME:EDT
DTSTART:20140309T070000
END:DAYLIGHT
BEGIN:STANDARD
TZOFFSETFROM:-0400
TZOFFSETTO:-0500
TZNAME:EST
DTSTART:20141102T060000
END:STANDARD
BEGIN:DAYLIGHT
TZOFFSETFROM:-0500
TZOFFSETTO:-0400
TZNAME:EDT
DTSTART:20150308T070000
END:DAYLIGHT
BEGIN:STANDARD
TZOFFSETFROM:-0400
TZOFFSETTO:-0500
TZNAME:EST
DTSTART:20151101T060000
END:STANDARD
BEGIN:DAYLIGHT
TZOFFSETFROM:-0500
TZOFFSETTO:-0400
TZNAME:EDT
DTSTART:20160313T070000
END:DAYLIGHT
BEGIN:STANDARD
TZOFFSETFROM:-0400
TZOFFSETTO:-0500
TZNAME:EST
DTSTART:20161106T060000
END:STANDARD
BEGIN:DAYLIGHT
TZOFFSETFROM:-0500
TZOFFSETTO:-0400
TZNAME:EDT
DTSTART:20170312T070000
END:DAYLIGHT
BEGIN:STANDARD
TZOFFSETFROM:-0400
TZOFFSETTO:-0500
TZNAME:EST
DTSTART:20171105T060000
END:STANDARD
BEGIN:DAYLIGHT
TZOFFSETFROM:-0500
TZOFFSETTO:-0400
TZNAME:EDT
DTSTART:20180311T070000
END:DAYLIGHT
BEGIN:STANDARD
TZOFFSETFROM:-0400
TZOFFSETTO:-0500
TZNAME:EST
DTSTART:20181104T060000
END:STANDARD
BEGIN:DAYLIGHT
TZOFFSETFROM:-0500
TZOFFSETTO:-0400
TZNAME:EDT
DTSTART:20190310T070000
END:DAYLIGHT
BEGIN:STANDARD
TZOFFSETFROM:-0400
TZOFFSETTO:-0500
TZNAME:EST
DTSTART:20191103T060000
END:STANDARD
BEGIN:DAYLIGHT
TZOFFSETFROM:-0500
TZOFFSETTO:-0400
TZNAME:EDT
DTSTART:20200308T070000
END:DAYLIGHT
BEGIN:STANDARD
TZOFFSETFROM:-0400
TZOFFSETTO:-0500
TZNAME:EST
DTSTART:20201101T060000
END:STANDARD
BEGIN:DAYLIGHT
TZOFFSETFROM:-0500
TZOFFSETTO:-0400
TZNAME:EDT
DTSTART:20210314T070000
END:DAYLIGHT
BEGIN:STANDARD
TZOFFSETFROM:-0400
TZOFFSETTO:-0500
TZNAME:EST
DTSTART:20211107T060000
END:STANDARD
BEGIN:DAYLIGHT
TZOFFSETFROM:-0500
TZOFFSETTO:-0400
TZNAME:EDT
DTSTART:20220313T070000
END:DAYLIGHT
BEGIN:STANDARD
TZOFFSETFROM:-0400
TZOFFSETTO:-0500
TZNAME:EST
DTSTART:20221106T060000
END:STANDARD
END:VTIMEZONE
BEGIN:VEVENT
DTSTART;TZID=America/New_York:20220802T170000
DTEND;TZID=America/New_York:20220802T190000
DTSTAMP:20260420T151413
CREATED:20250605T235048Z
LAST-MODIFIED:20250617T184141Z
UID:1479-1659459600-1659466800@cleanwater2020.com
SUMMARY:Sanitary Sewer Upgrade Drop-In - Broad River 02
DESCRIPTION:Email: info@cleanwater2020.com \nProject Summary: \n\nThe City of Columbia is contracting with AECOM\, AM-Liner East Inc.\, and North American Pipeline Management\, Inc. to assess and upgrade portions of the existing sanitary sewer system in your area. This work will help the city meet increasing sewer demands while reducing sanitary sewer overflows.Residents and businesses in the area surrounding Columbia High School are encouraged to drop in to learn more about the sewer system upgrade and how these improvements may impact you and your property. \nProject Information Page: SS7424 (No Longer Available) \nJoin us:\nTuesday\, August 2\, 2022 from 5:00PM  to 7:00PM\nRichland Library St. Andrews – Brandon LaVar Byrd Meeting Room\n2916 Broad River Road  |  Columbia\, SC 29210 \n\n\nEvent Material\n\n\nSS7424 BR02 Overview Map
URL:https://cleanwater2020.com/event/sanitary-sewer-upgrade-drop-in-broad-river-02/
END:VEVENT
BEGIN:VEVENT
DTSTART;TZID=America/New_York:20220124T173000
DTEND;TZID=America/New_York:20220124T193000
DTSTAMP:20260420T151413
CREATED:20250606T000131Z
LAST-MODIFIED:20250617T211724Z
UID:1485-1643045400-1643052600@cleanwater2020.com
SUMMARY:Sanitary Sewer Upgrade Drop-In - Olympia Community
DESCRIPTION:Email: info@cleanwater2020.com \nProject Summary: \n\n\nThe City of Columbia is contracting with Michael Baker International to design an upgrade to portions of the existing sanitary sewer system in your area. These upgrades will help the city meet increasing sewer demands while reducing sanitary sewer overflows. Residents and businesses in the Olympia community are encouraged to drop-in to learn more about the sewer system upgrade. If you would like more information about the project\, please email info@cleanwater2020.com.Project Information Page: SS753501 \n  \nJoin us:\nMonday\, January 24\, 2022 from 5:30 PM to 7:30 PM\nSt. Luke Lutheran Church of Olympia\n1127 Olympia Ave  |  Columbia\, SC 29201 \nSign up for City of Columbia and Richland County public safety and community awareness alerts HERE.
URL:https://cleanwater2020.com/event/sanitary-sewer-upgrade-drop-in-olympia-community/
END:VEVENT
BEGIN:VEVENT
DTSTART;TZID=America/New_York:20190207T173000
DTEND;TZID=America/New_York:20190207T183000
DTSTAMP:20260420T151413
CREATED:20250606T000941Z
LAST-MODIFIED:20250617T183415Z
UID:1490-1549560600-1549564200@cleanwater2020.com
SUMMARY:Columbia Water Quarterly Drop-In - Feb 2019
DESCRIPTION:Email: info@cleanwater2020.com \nProject Summary:\nJoin us after hours to learn about your water\, sewer\, and stormwater systems and how recent rate changes impact you. Have questions about your service? We’re here to help. Learn to read your water meter; Identify common water wasters and leaks; Go over your billing questions and options. Want to know what we’re working on? Featuring upcoming projects to improve the City’s water\, sewer\, and stormwater systems in local neighborhoods. Learn how these projects may impact your property! \n\n\n\n\nClean Water 2020 projects presented at this drop-in will have a direct impact on residents and businesses in the proposed project area. Local residents and businesses are encouraged to drop-in to learn more about the sewer system upgrade. \nProject Information Page: SS7425 (No Longer Available)\nProject Information Page: SS7428 (No Longer Available) \nSign up for City of Columbia and Richland County public safety and community awareness alerts HERE. \nThursday\, February 7\, 2019 at 5:00 PM – 6:30 PM\nWashington Square – City of Columbia Customer Care Center\n1136 Washington Street – Columbia\, SC 29201 \n\n\nEvent Material\n\n\nSS7425 RB03 Sewer System Evaluation Study and Sewer Rehab Info Sheet Feb 2019\nSS7428 Lower Saluda Relief Sewer and Major Rehab Info Sheet Feb 2019
URL:https://cleanwater2020.com/event/columbia-water-quarterly-drop-in-feb-2019/
END:VEVENT
BEGIN:VEVENT
DTSTART;TZID=America/New_York:20181004T170000
DTEND;TZID=America/New_York:20181004T183000
DTSTAMP:20260420T151413
CREATED:20250606T001853Z
LAST-MODIFIED:20250617T183301Z
UID:1494-1538672400-1538677800@cleanwater2020.com
SUMMARY:Columbia Water Quarterly Drop-In - Oct 2018
DESCRIPTION:Email: info@cleanwater2020.com \nProject Summary: Join us after hours to learn about your water\, sewer\, and stormwater systems and how recent rate changes impact you. Have questions about your service? We’re here to help. Learn to read your water meter; Identify common water wasters and leaks; Go over your billing questions and options. Want to know what we’re working on? Featuring upcoming projects to improve the City’s water\, sewer\, and stormwater systems in local neighborhoods. Learn how these projects may impact your property! \n\nClean Water 2020 program staff will be on hand to showcase upcoming and completed rehab projects. Residents and businesses are encouraged to drop-in to learn what areas were affected and more about the sewer system upgrades and the types of rehabilitation.\n\n\nGo to CW2020 Projects for more info on Active & Upcoming or Completed projects. \nSign up for City of Columbia and Richland County public safety and community awareness alerts HERE. \nThursday\, October 4\, 2018 at 5:00 PM – 6:30 PM\nWashington Square – City of Columbia Customer Care Center\n1136 Washington Street – Columbia\, SC 29201 \n\n\nEvent Material\n\n\nColumbia Water Rehab Efforts FY 2012-21 Drop-In4 Oct 2018\nWaterSewer_CIPHighlights Drop-In 4 Oct 2018\nRehab Public Info Flyer Drop-In 4 Oct 2018
URL:https://cleanwater2020.com/event/columbia-water-quarterly-drop-in-oct-2018/
END:VEVENT
BEGIN:VEVENT
DTSTART;TZID=America/New_York:20180711T170000
DTEND;TZID=America/New_York:20180711T183000
DTSTAMP:20260420T151413
CREATED:20250606T002927Z
LAST-MODIFIED:20250617T183145Z
UID:1505-1531328400-1531333800@cleanwater2020.com
SUMMARY:Columbia Water Quarterly Drop-In - July 2018
DESCRIPTION:Email: info@cleanwater2020.com \nProject Summary: Join us after hours to learn about your water\, sewer\, and stormwater systems and how recent rate changes impact you. Have questions about your service? We’re here to help. Learn to read your water meter; Identify common water wasters and leaks; Go over your billing questions and options. Want to know what we’re working on? Featuring upcoming projects to improve the City’s water\, sewer\, and stormwater systems in local neighborhoods. Learn how these projects may impact your property! \nClean Water 2020 projects presented at this drop-in will have a direct impact on residents and businesses in the proposed project area. Local residents and businesses are encouraged to drop-in to learn more about the sewer system upgrade. \nProject Information Page: SS7363 (No Longer Available)\nProject #: SS7416 \nSign up for City of Columbia and Richland County public safety and community awareness alerts HERE. \nThursday\, July 11\, 2018 at 5:00 PM – 6:30 PM\nWashington Square – City of Columbia Customer Care Center\n1136 Washington Street – Columbia\, SC 29201 \nEvent Material\nSS7363 Smith Branch 03 Sewer Rehab_Improv Info Sheet Jul 2018\nSS7416 Backup Generators at Various PS Sites Info Sheet Jul 2018
URL:https://cleanwater2020.com/event/columbia-water-quarterly-drop-in-july-2018/
END:VEVENT
BEGIN:VEVENT
DTSTART;TZID=America/New_York:20180412T180000
DTEND;TZID=America/New_York:20180412T193000
DTSTAMP:20260420T151413
CREATED:20250606T004942Z
LAST-MODIFIED:20250617T182838Z
UID:1508-1523556000-1523561400@cleanwater2020.com
SUMMARY:Columbia Water Quarterly Drop-In - April 2018
DESCRIPTION:Email: info@cleanwater2020.com \nProject Summary:Join us after hours to learn about your water\, sewer\, and stormwater systems and how recent rate changes impact you. Have questions about your service? We’re here to help. Learn to read your water meter; Identify common water wasters and leaks; Go over your billing questions and options. Want to know what we’re working on? Featuring upcoming projects to improve the City’s water\, sewer\, and stormwater systems in local neighborhoods. Learn how these projects may impact your property! \nClean Water 2020 projects presented at this drop-in will have a direct impact on residents and businesses in the proposed project area. Local residents and businesses are encouraged to drop-in to learn more about the sewer system upgrade. \nProject Information Page: SS7284 (No Longer Available)\nProject Information Page: SS7261 (No Longer Available)\nProject #: SS7362 \nSign up for City of Columbia and Richland County public safety and community awareness alerts HERE. \nThursday\, April 12\, 2018 at 6:00 PM – 7:30 PM\n3907 Ensor Avenue – Columbia\, SC 29201 \nEvent Material\nSS7362 Smith Branch 01 Rehab/Improvements Info Sheet Apr 2018\nSS7284 Train 1 Aeration Improvements at MWWTP Info Sheet Apr 2018\nSS7261 Lake Katherine Capacity Enhancement Info Sheet Apr 2018
URL:https://cleanwater2020.com/event/columbia-water-quarterly-drop-in-april-2018/
END:VEVENT
BEGIN:VEVENT
DTSTART;TZID=America/New_York:20171012T180000
DTEND;TZID=America/New_York:20171012T193000
DTSTAMP:20260420T151413
CREATED:20250606T005733Z
LAST-MODIFIED:20250617T182744Z
UID:1515-1507831200-1507836600@cleanwater2020.com
SUMMARY:Columbia Water Quarterly Drop-In - Oct 2017
DESCRIPTION:Email: info@cleanwater2020.com \nProject Summary:Join us after hours to learn about your water\, sewer\, and stormwater systems and how recent rate changes impact you. Have questions about your service? We’re here to help. Learn to read your water meter; Identify common water wasters and leaks; Go over your billing questions and options. Want to know what we’re working on? Featuring upcoming projects to improve the City’s water\, sewer\, and stormwater systems in local neighborhoods. Learn how these projects may impact your property! \nClean Water 2020 projects presented at this drop-in will have a direct impact on residents and businesses in the proposed project area. Local residents and businesses are encouraged to drop-in to learn more about the sewer system upgrade. \nProject Information Page: SS7323 (No Longer Available)\nProject Information Page: SS733702 (No Longer Available) \nSign up for City of Columbia and Richland County public safety and community awareness alerts HERE. \nThursday\, October 12\, 2017 at 6:00 – 7:30 PM\n1136 Washington Street – Columbia\, SC 29201 \nEvent Material\nSS7323 Food Lion PS Improvements Info Sheet Oct 2017\nSS733702 East Rocky Branch 02 Info Sheet Oct 2017
URL:https://cleanwater2020.com/event/columbia-water-quarterly-drop-in-oct-2017/
END:VEVENT
BEGIN:VEVENT
DTSTART;TZID=America/New_York:20161129T180000
DTEND;TZID=America/New_York:20161129T193000
DTSTAMP:20260420T151413
CREATED:20250606T010334Z
LAST-MODIFIED:20250617T182652Z
UID:1517-1480442400-1480447800@cleanwater2020.com
SUMMARY:Sewer Investment Drop-In – Smith Branch 02
DESCRIPTION:Email: info@cleanwater2020.com \nProject Summary:The City of Columbia\, as part of Clean Water 2020\, is contracting with MWH Global to construct upgrades to portions of the existing sanitary sewer system in the Smith Branch 02 area. These upgrades will include approximately 20\,000 linear feet of cured-in-place lining for 8″\, 10″ and 12″ sewer pipe and are designed to meet the increasing demands from customers and prevent overflows. \nThis project will have a direct impact on residents in the proposed project area. Local residents and businesses are encouraged to drop-in to learn more about the sewer system upgrade. \nSign up for City of Columbia and Richland County public safety and community awareness alerts HERE. \nTuesday\, November 29\, 2016 at 6:00 – 7:30 PM\n2111 Simpkins Lane – Columbia\, SC 29204 \nEvent Material\nSS7279 Smith Branch 02 Info Sheet Nov 2016\nSS7279 Smith Branch 02 Project Area Map
URL:https://cleanwater2020.com/event/sewer-investment-drop-in-smith-branch-02/
END:VEVENT
BEGIN:VEVENT
DTSTART;TZID=America/New_York:20161116T180000
DTEND;TZID=America/New_York:20161116T193000
DTSTAMP:20260420T151413
CREATED:20250606T014633Z
LAST-MODIFIED:20250617T182515Z
UID:1552-1479319200-1479324600@cleanwater2020.com
SUMMARY:Sewer Investment Drop-In - East Rocky Branch Phase 1
DESCRIPTION:Email: info@cleanwater2020.com \nProject Summary:The City of Columbia is contracting with Brown and Caldwell to design an upgrade to portions of the existing sanitary sewer system in your area. These upgrades will help the city meet increasing sewer demands while reducing sanitary sewer overflows. \nResidents and businesses in the Five Points community are encouraged to drop-in to learn more about the sewer system upgrade. \nWednesday\, November 16\, 2016 at 6:00-7:30 PM\nLourie Center – 1650 Park Circle – Columbia\, SC 29201 \nEvent Material\nSS733701 East Rocky Branch Phase 1 Project Area Map Oct 2016\nEast Rocky Branch Phase 1 Project Area (SS733701)
URL:https://cleanwater2020.com/event/sewer-investment-drop-in-east-rocky-branch-phase-1/
END:VEVENT
BEGIN:VEVENT
DTSTART;TZID=America/New_York:20160922T170000
DTEND;TZID=America/New_York:20160922T190000
DTSTAMP:20260420T151413
CREATED:20250606T010723Z
LAST-MODIFIED:20250617T182212Z
UID:1522-1474563600-1474570800@cleanwater2020.com
SUMMARY:Sewer Line Capacity Enhancement Drop-In - Upper Kinley Creek
DESCRIPTION:Email: info@cleanwater2020.com \nProject Summary: The City of Columbia\, as part of Clean Water 2020\, is contracting with Thomas & Hutton Engineering to design an upgrade to a sanitary sewer main in your area. This upgrade will help the city meet increasing sewer demands while reducing sanitary sewer overflows. \nLocal residents and businesses in the Whitehall community between Harbison Boulevard and Piney Grove Road are encouraged to drop-in to learn more about the sewer system upgrade.   Project #: SS7331 \nThursday\, September 22\, 2016 at 5:00 – 7:00 PM\nMcGregor Presbyterian Church\, McGregor Hall – 6505 St. Andrews Road – Columbia\, SC 29212 \nEvent Material\nUpper Kinley Creek Location Map (SS7331)
URL:https://cleanwater2020.com/event/sewer-line-capacity-enhancement-drop-in-upper-kinley-creek/
END:VEVENT
BEGIN:VEVENT
DTSTART;TZID=America/New_York:20160915T180000
DTEND;TZID=America/New_York:20160915T200000
DTSTAMP:20260420T151413
CREATED:20250606T011144Z
LAST-MODIFIED:20250617T182048Z
UID:1524-1473962400-1473969600@cleanwater2020.com
SUMMARY:Sanitary Sewer Upgrade Public Meeting - Rocky Branch 01
DESCRIPTION:Project Summary:The City of Columbia\, as part of Clean Water 2020\, is contracting with Improved Technologies Group\, Inc. to construct upgrades to portions of the existing sewer system in the Rocky Branch basin. This upgrade is designed to meet the increasing demands from customers and prevent overflows. \nThis project will have a direct impact on residents in the proposed project area. You are encouraged to attend to learn more about the sewer system upgrade. Project: SS7280 \nThursday\, September 15\, 2016 at 6:00 – 8:00 PM\nLourie Center – 1650 Park Circle – Columbia\, SC 29201 \nEvent Material\nSS7280 Rocky Branch 01 Info Sheet Sept 2016\nSS7280 Rocky Branch 01 Project Map
URL:https://cleanwater2020.com/event/sanitary-sewer-upgrade-public-meeting-rocky-branch-01/
END:VEVENT
BEGIN:VEVENT
DTSTART;TZID=America/New_York:20160602T170000
DTEND;TZID=America/New_York:20160602T190000
DTSTAMP:20260420T151413
CREATED:20250606T011735Z
LAST-MODIFIED:20250617T181915Z
UID:1528-1464886800-1464894000@cleanwater2020.com
SUMMARY:Sanitary Sewer Upgrade Public Meeting - Upper Mill Creek
DESCRIPTION:Email: info@cleanwater2020.com \nProject Summary: The City of Columbia\, through its contractors\, is in the process of designing an upgrade along Upper Mill Creek. This upgrade will be designed to meet the increasing demands from customers and prevent overflows. Design is scheduled to be completed by Summer 2017 with construction to follow. \nThe City of Columbia\, as part of Clean Water 2020\, is holding a public meeting for residents along Upper Mill Creek\, including Kingston Ridge\, Mallard Landing\, Creekside\, Trotwood and Berkley Forest neighborhoods. This project will have a direct impact on residents along the proposed project alignment. You are encouraged to attend to learn more about the sewer system upgrade and provide input to the project designers.   Project: SS7330 \nThursday\, June 2\, 2016 at 5:00 – 7:00 PM \nEvent Material\nUpper Mill Creek Sewer Improvements Map (SS7330)\nUpper Mill Creek Neighborhoods (SS7330)
URL:https://cleanwater2020.com/event/sanitary-sewer-upgrade-public-meeting-upper-mill-creek/
END:VEVENT
BEGIN:VEVENT
DTSTART;TZID=America/New_York:20160524T170000
DTEND;TZID=America/New_York:20160524T190000
DTSTAMP:20260420T151413
CREATED:20250606T012551Z
LAST-MODIFIED:20250617T181641Z
UID:1536-1464109200-1464116400@cleanwater2020.com
SUMMARY:Sanitary Sewer Upgrade Public Meeting - Bluff Road\, East of I-77
DESCRIPTION:Email: info@cleanwater2020.com \nProject Summary: The City of Columbia is upgrading the sanitary sewer force main in the Bluff Road area\, East of I-77. The upgrade is designed to meet increasing demands and prevent overflows. Construction is scheduled to begin in June 2016. \nThe City of Columbia\, as part of Clean Water 2020\, is holding a public meeting for residents in the Bluff Road area\, East of I-77. Local residents and businesses in the area are invited to attend. You are encouraged to attend to learn more about the sewer system upgrade and how it may affect you\, your property\, and your community. Project #: SS6764 \nTuesday\, May 24\, 2016 at 5:00 – 7:00 PM \nEvent Material\nBluff Road Area Map 30″ FM from Mill Creek PS to WWTP (SS6764)\nBluff Rd Area 30″ FM Public Exhibit 2 (SS6764)\nBluff Rd Area 30″ FM Public Exhibit 1 (SS6764)
URL:https://cleanwater2020.com/event/sanitary-sewer-upgrade-public-meeting-bluff-road-east-of-i-77/
END:VEVENT
BEGIN:VEVENT
DTSTART;TZID=America/New_York:20140909T183000
DTEND;TZID=America/New_York:20140909T190000
DTSTAMP:20260420T151413
CREATED:20250606T013037Z
LAST-MODIFIED:20250606T013037Z
UID:1538-1410287400-1410289200@cleanwater2020.com
SUMMARY:Sanitary Sewer Upgrade Open House - Irmo/St. Andrews
DESCRIPTION:Location: Irmo\, SC\nAddress: 7582 Woodrow Street\nEmail: info@cleanwater2020.com\nHow to find us: Union United Methodist Church Gymnasium\nProject Summary:The City of Columbia is making improvements to the sanitary sewer system in the Saluda River and West Columbia Basins. The City is contracting with Layne Inliner\, McClam & Associates\, Inc.\, and Improved Technologies Group\, Inc. to construct and/or rehabilitate portions of the existing sanitary sewer system and reduce sanitary sewer overflows (SSOs) in your area. \nThe City of Columbia\, as part of Clean Water 2020\, is holding an open house in the St. Andrews and Irmo area. Local residents and businesses in the community are invited to attend. You can learn more about the sanitary sewer improvements and how they might impact your property. \nTuesday\, September 9\, 2014 6:30 – 8:00 PM\nUnion United Methodist Church Gymnasium\n7582 Woodrow Street – Irmo\, SC 29063 \nEvent Material\nSaluda River and West Columbia Basins Improvements
URL:https://cleanwater2020.com/event/sanitary-sewer-upgrade-open-house-irmo-st-andrews/
END:VEVENT
BEGIN:VEVENT
DTSTART;TZID=America/New_York:20140909T130000
DTEND;TZID=America/New_York:20140909T143000
DTSTAMP:20260420T151413
CREATED:20250606T013515Z
LAST-MODIFIED:20250606T013621Z
UID:1541-1410267600-1410273000@cleanwater2020.com
SUMMARY:Sanitary Sewer Upgrade Open House - St. Andrews/Irmo
DESCRIPTION:Location: Columbia\, SC\nAddress: 190 Stoneridge Drive\nEmail: info@cleanwater2020.com\nHow to find us: South Carolina Baptist Convention\nProject Summary:The City of Columbia is making improvements to the sanitary sewer system in the Saluda River and West Columbia Basins. The City is contracting with Layne Inliner\, McClam & Associates\, Inc.\, and Improved Technologies Group\, Inc. to construct and/or rehabilitate portions of the existing sanitary sewer system and reduce sanitary sewer overflows (SSOs) in your area. \nThe City of Columbia\, as part of Clean Water 2020\, is holding an open house in the St. Andrews and Irmo area. Local residents and businesses in the community are invited to attend. You can learn more about the sanitary sewer improvements and how they might impact your property. \n  \nTuesday\, September 9\, 2014 1:00 – 2:30 PM\nSouth Carolina Baptist Convention\n190 Stoneridge Drive – Columbia\, SC 29210 \nEvent Material\nSaluda River and West Columbia Basins Improvements
URL:https://cleanwater2020.com/event/sanitary-sewer-upgrade-open-house-st-andrews-irmo/
END:VEVENT
BEGIN:VEVENT
DTSTART;TZID=America/New_York:20140717T063000
DTEND;TZID=America/New_York:20140717T203000
DTSTAMP:20260420T151413
CREATED:20250606T014042Z
LAST-MODIFIED:20250606T015251Z
UID:1548-1405578600-1405629000@cleanwater2020.com
SUMMARY:Sanitary Sewer Upgrade Open House - Lake Katherine
DESCRIPTION:Location: Columbia\, SC\nAddress: 4927 Quail Lane\nEmail: info@cleanwater2020.com\nHow to find us: Quail Lane Swim and Racquet Club\nProject Summary:The City of Columbia is making improvements to the sanitary sewer system in the Lake Katherine area. Existing 24” gravity sewer will be replaced with a new 30” gravity sewer to handle current and projected sanitary sewer flows. The gravity sewer capacity enhancement is required to address current and future wastewater flows in the project area. Increasing sewer capacity in the area will reduce sanitary sewer overflows (SSOs) along the existing major trunk line. Limiting SSOs in the project helps to minimize environmental and public impacts of the sewer system. \nThe City of Columbia\, as part of Clean Water 2020\, is holding an open house in the Lake Katherine area. Local residents and businesses in the Lake Katherine\, Deaswood\, and Kilbourne Heights communities are invited to attend. You can learn more about the sanitary sewer improvements and how they might impact your property. \nThursday\, July 17\, 2014 at 6:30 – 8:30 PM\n4927 Quail Lane – Columbia\, SC 29206 \nEvent Material\nLake Katherine
URL:https://cleanwater2020.com/event/sanitary-sewer-upgrade-open-house-lake-katherine/
END:VEVENT
END:VCALENDAR